BEGIN:VCALENDAR
VERSION:2.0
PRODID:-//eventon.com NONSGML v1.0//EN
CALSCALE:GREGORIAN
METHOD:PUBLISH
BEGIN:VEVENT
UID:69e4f76431e7e
DTSTAMP:20260419T154020Z
DTSTART:20260425T090000Z
DTEND:20260425T150000Z
LOCATION:Cannock Chase Birches Valley\,  Rugeley WS15 2UQ
SUMMARY:Forage and Cookery Course in Staffordshire
DESCRIPTION:Get ready for an adventure with a Totally Wild UK professional 
 forager on our Forage and Cookery Course in Staffordshire! Join us on a jou
 rney to learn about the hidden world of wild edibles that surrounds us. And
  that’s not all! Enjoy a delicious wild food meal that will inspire[..]\n
 https://totallywilduk.co.uk/events/forage-and-cookery-course-in-staffordshi
 re-2/
URL:https://totallywilduk.co.uk/events/forage-and-cookery-course-in-staffordshire-2/
END:VEVENT
END:VCALENDAR