BEGIN:VCALENDAR
VERSION:2.0
PRODID:-//eventon.com NONSGML v1.0//EN
CALSCALE:GREGORIAN
METHOD:PUBLISH
BEGIN:VEVENT
UID:69e55e54cefd4
DTSTAMP:20260419T225932Z
DTSTART:20260426T090000Z
DTEND:20260426T120000Z
LOCATION:Fen End Farm Oxholme Drove\,  Cottenham\,  Cambridge CB24 8UP
SUMMARY:Foraging Walk in Cambridgeshire
DESCRIPTION:Whether you’re a beginner or someone who wants to deepen thei
 r knowledge\,  our foraging walk in Cambridgeshire is the perfect way to le
 arn all about wild food. WHAT TO EXPECT To begin\,  we will go through the 
 basics of foraging\,  how Totally Wild got started and some of the best[..]
 \nhttps://totallywilduk.co.uk/events/foraging-walk-in-cambridgeshire/
URL:https://totallywilduk.co.uk/events/foraging-walk-in-cambridgeshire/
END:VEVENT
END:VCALENDAR