BEGIN:VCALENDAR
VERSION:2.0
PRODID:-//eventon.com NONSGML v1.0//EN
CALSCALE:GREGORIAN
METHOD:PUBLISH
BEGIN:VEVENT
UID:69e4fa19933f0
DTSTAMP:20260419T155153Z
DTSTART:20260524T090000Z
DTEND:20260524T120000Z
LOCATION:Wellness Woodlands Highley\,  Bridgnorth WV16 6HZ
SUMMARY:Foraging Walk in Shropshire
DESCRIPTION:Whether you’re a beginner or someone who wants to deepen thei
 r knowledge\,  our foraging walk in Shropshire is the perfect way to learn 
 all about wild food. WHAT TO EXPECT To begin\,  we will go through the basi
 cs of foraging\,  how Totally Wild got started and some of the best[..]\nht
 tps://totallywilduk.co.uk/events/foraging-walk-in-shropshire/
URL:https://totallywilduk.co.uk/events/foraging-walk-in-shropshire/
END:VEVENT
END:VCALENDAR