BEGIN:VCALENDAR
VERSION:2.0
PRODID:-//eventon.com NONSGML v1.0//EN
CALSCALE:GREGORIAN
METHOD:PUBLISH
BEGIN:VEVENT
UID:69e4f3e48ca5d
DTSTAMP:20260419T152524Z
DTSTART:20260524T130000Z
DTEND:20260524T160000Z
LOCATION:Wellness Woodlands Highley\,  Bridgnorth WV16 6HZ
SUMMARY:Afternoon Foraging Walk in Shropshire
DESCRIPTION:Whether you’re a beginner or someone who wants to deepen thei
 r knowledge\,  our afternoon foraging walk in Shropshire is the perfect way
  to learn all about wild food. WHAT TO EXPECT To begin\,  we will go throug
 h the basics of foraging\,  how Totally Wild got started and some of the[..
 ]\nhttps://totallywilduk.co.uk/events/afternoon-foraging-walk-in-shropshire
 /
URL:https://totallywilduk.co.uk/events/afternoon-foraging-walk-in-shropshire/
END:VEVENT
END:VCALENDAR